BEGIN:VCALENDAR
VERSION:2.0
PRODID:icalendar-ruby
CALSCALE:GREGORIAN
METHOD:PUBLISH
BEGIN:VEVENT
DTSTAMP:20260421T195746Z
UID:454-778025@licrc.ca
DTSTART:20260422T020000Z
DTEND:20260422T033000Z
CLASS:PUBLIC
CREATED:20260421T085025
DESCRIPTION:
LAST-MODIFIED:20260421T085025
LOCATION:
SUMMARY:Pastoral Elders Meeting
URL;VALUE=URI:https://www.licrc.ca/events/pastoral-elders-meeting--454/2026
 -04-21
ATTACH;FILENAME=Elders Meeting.png;FMTTYPE=image/png:https://dq5pwpg1q8ru0.
 cloudfront.net/2026/04/21/15/50/25/3cef3a0f-fd3e-4868-b2c9-fffc0357e4b9/El
 ders%20Meeting.png
END:VEVENT
END:VCALENDAR
